View In:
ArcGIS JavaScript
ArcGIS Online Map Viewer
ArcGIS Earth
Service Description: carbono_subterraneo
Name: carbono_subterraneo
Description:
Single Fused Map Cache: false
Extent:
XMin: 189436.73230172973
YMin: 3064013.9430185705
XMax: 461186.73230172973
YMax: 3194063.9430185705
Spatial Reference: 32628
(32628)
LatestVCSWkid(0)
Initial Extent:
XMin: 189436.73230172973
YMin: 3064013.9430185705
XMax: 461186.73230172973
YMax: 3194063.9430185705
Spatial Reference: 32628
(32628)
LatestVCSWkid(0)
Full Extent:
XMin: 189436.73230172973
YMin: 3064013.9430185705
XMax: 461186.73230172973
YMax: 3194063.9430185705
Spatial Reference: 32628
(32628)
LatestVCSWkid(0)
Pixel Size X: 50.0
Pixel Size Y: 50.0
Band Count: 1
Pixel Type: S32
RasterFunction Infos: {"rasterFunctionInfos": [{
"name": "None",
"description": "",
"help": ""
}]}
Mensuration Capabilities: Basic
Inspection Capabilities:
Has Histograms: true
Has Colormap: false
Has Multi Dimensions : false
Rendering Rule:
Min Scale: 0
Max Scale: 0
Copyright Text:
Service Data Type: esriImageServiceDataTypeGeneric
Min Values: 1
Max Values: 187
Mean Values: 33.145390819175475
Standard Deviation Values: 23.391625662688533
Object ID Field:
Fields:
None
Default Mosaic Method: Center
Allowed Mosaic Methods:
SortField:
SortValue: null
Mosaic Operator: First
Default Compression Quality: 75
Default Resampling Method: Bilinear
Max Record Count: null
Max Image Height: 4100
Max Image Width: 15000
Max Download Image Count: null
Max Mosaic Image Count: null
Allow Raster Function: true
Allow Copy: true
Allow Analysis: true
Allow Compute TiePoints: false
Supports Statistics: false
Supports Advanced Queries: false
Use StandardizedQueries: true
Raster Type Infos:
Name: Raster Dataset
Description: Supports all ArcGIS Raster Datasets
Help:
Has Raster Attribute Table: false
Edit Fields Info: null
Ownership Based AccessControl For Rasters: null
Child Resources:
Info
Histograms
Statistics
Key Properties
Legend
Raster Function Infos
Supported Operations:
Export Image
Identify
Measure
Compute Histograms
Compute Statistics Histograms
Get Samples
Compute Class Statistics
Query Boundary
Compute Pixel Location
Compute Angles
Validate
Project