{
 "currentVersion": 11.5,
 "serviceDescription": "carbono_total",
 "serviceItemId": "4eba9968db4a482f9fe247fc278dce71",
 "name": "carbono_total",
 "description": "",
 "extent": {
  "xmin": 189436.73230172973,
  "ymin": 3064013.9430185705,
  "xmax": 461186.73230172973,
  "ymax": 3194063.9430185705,
  "spatialReference": {
   "wkid": 32628,
   "latestWkid": 32628
  }
 },
 "initialExtent": {
  "xmin": 189436.73230172973,
  "ymin": 3064013.9430185705,
  "xmax": 461186.73230172973,
  "ymax": 3194063.9430185705,
  "spatialReference": {
   "wkid": 32628,
   "latestWkid": 32628
  }
 },
 "fullExtent": {
  "xmin": 189436.73230172973,
  "ymin": 3064013.9430185705,
  "xmax": 461186.73230172973,
  "ymax": 3194063.9430185705,
  "spatialReference": {
   "wkid": 32628,
   "latestWkid": 32628
  }
 },
 "sortableFields": "",
 "bandCount": 1,
 "pixelType": "S32",
 "minValues": [
  4
 ],
 "maxValues": [
  555
 ],
 "meanValues": [
  117.87888614702557
 ],
 "stdvValues": [
  65.45270050592175
 ],
 "serviceProperties": "Center<\/MosaicMethod>First<\/MosaicOperator>true<\/SortAscending><\/LockImageID><\/TileOrderField>0<\/TileOrderBase>0,000000<\/AvgImageSpacingX>0,000000<\/AvgImageSpacingY>0.0<\/ViewPointX>0.0<\/ViewPointY>0.0<\/ViewPointDefShiftX>0.0<\/ViewPointDefShiftY>None<\/CompressionMethod>75<\/CompressionQuality>0,010000<\/CompressionTolerance>Bilinear<\/SamplingMethod><\/ImageServiceProperties><\/ImageServer>",
 "allowedFields": "",
 "hasMultidimensions": false,
 "pixelSizeX": 50,
 "pixelSizeY": 50,
 "meanPixelSize": 50,
 "datasetFormat": "FGDBR",
 "uncompressedSize": 56545740,
 "blockWidth": 128,
 "blockHeight": 128,
 "compressionType": "LZ77",
 "bandNames": [
  "Band_1"
 ],
 "allowCopy": true,
 "allowAnalysis": true,
 "itemAccess": false,
 "inspectionCapabilities": "",
 "minPixelSize": 0,
 "maxPixelSize": 0,
 "copyrightText": "",
 "serviceDataType": "esriImageServiceDataTypeGeneric",
 "serviceSourceType": "esriImageServiceSourceTypeDataset",
 "objectIdField": "",
 "fields": [],
 "capabilities": "Image,Metadata,Mensuration",
 "defaultMosaicMethod": "Center",
 "allowedMosaicMethods": "",
 "sortField": "",
 "sortValue": null,
 "sortAscending": true,
 "mosaicOperator": "First",
 "defaultCompressionQuality": 75,
 "defaultResamplingMethod": "Bilinear",
 "maxImageHeight": 4100,
 "maxImageWidth": 15000,
 "allowRasterFunction": true,
 "rasterFunctionInfos": [
  {
   "name": "None",
   "description": "",
   "help": ""
  }
 ],
 "rasterTypeInfos": [
  {
   "name": "Raster Dataset",
   "description": "Supports all ArcGIS Raster Datasets",
   "help": ""
  }
 ],
 "mensurationCapabilities": "Basic",
 "hasHistograms": true,
 "hasColormap": false,
 "hasRasterAttributeTable": false,
 "minScale": 0,
 "maxScale": 0,
 "exportTilesAllowed": false,
 "supportsStatistics": false,
 "supportsAdvancedQueries": false,
 "editFieldsInfo": null,
 "ownershipBasedAccessControlForRasters": null,
 "allowComputeTiePoints": false,
 "useStandardizedQueries": true,
 "advancedQueryCapabilities": {
  "useStandardizedQueries": true,
  "supportsStatistics": false,
  "supportsOrderBy": false,
  "supportsDistinct": false,
  "supportsPagination": false
 },
 "spatialReference": {
  "wkid": 32628,
  "latestWkid": 32628
 }
}
