{
 "currentVersion": 11.5,
 "serviceDescription": "cambio_climatico/tf_evi_no_clouds_2000_2025",
 "serviceItemId": "0539a5242238412fadc743b069eff4fc",
 "name": "cambio_climatico/tf_evi_no_clouds_2000_2025",
 "description": "",
 "extent": {
  "xmin": 311000,
  "ymin": 3098000,
  "xmax": 390500,
  "ymax": 3165000,
  "spatialReference": {
   "wkid": 32628,
   "latestWkid": 32628
  }
 },
 "initialExtent": {
  "xmin": 311000,
  "ymin": 3098000,
  "xmax": 390500,
  "ymax": 3165000,
  "spatialReference": {
   "wkid": 32628,
   "latestWkid": 32628
  }
 },
 "fullExtent": {
  "xmin": 311000,
  "ymin": 3098000,
  "xmax": 390500,
  "ymax": 3165000,
  "spatialReference": {
   "wkid": 32628,
   "latestWkid": 32628
  }
 },
 "sortableFields": "",
 "bandCount": 595,
 "pixelType": "F32",
 "minValues": [],
 "maxValues": [],
 "meanValues": [],
 "stdvValues": [],
 "serviceProperties": "Center<\/MosaicMethod>First<\/MosaicOperator>true<\/SortAscending><\/LockImageID><\/TileOrderField>0<\/TileOrderBase>0,000000<\/AvgImageSpacingX>0,000000<\/AvgImageSpacingY>0.0<\/ViewPointX>0.0<\/ViewPointY>0.0<\/ViewPointDefShiftX>0.0<\/ViewPointDefShiftY>None<\/CompressionMethod>75<\/CompressionQuality>0,010000<\/CompressionTolerance>Bilinear<\/SamplingMethod><\/ImageServiceProperties><\/ImageServer>",
 "allowedFields": "",
 "hasMultidimensions": false,
 "pixelSizeX": 250,
 "pixelSizeY": 250,
 "meanPixelSize": 250,
 "datasetFormat": "SDR",
 "uncompressedSize": 202833120,
 "blockWidth": 128,
 "blockHeight": 128,
 "compressionType": "NONE",
 "bandNames": [
  "Band_1",
  "Band_2",
  "Band_3",
  "Band_4",
  "Band_5",
  "Band_6",
  "Band_7",
  "Band_8",
  "Band_9",
  "Band_10",
  "Band_11",
  "Band_12",
  "Band_13",
  "Band_14",
  "Band_15",
  "Band_16",
  "Band_17",
  "Band_18",
  "Band_19",
  "Band_20",
  "Band_21",
  "Band_22",
  "Band_23",
  "Band_24",
  "Band_25",
  "Band_26",
  "Band_27",
  "Band_28",
  "Band_29",
  "Band_30",
  "Band_31",
  "Band_32",
  "Band_33",
  "Band_34",
  "Band_35",
  "Band_36",
  "Band_37",
  "Band_38",
  "Band_39",
  "Band_40",
  "Band_41",
  "Band_42",
  "Band_43",
  "Band_44",
  "Band_45",
  "Band_46",
  "Band_47",
  "Band_48",
  "Band_49",
  "Band_50",
  "Band_51",
  "Band_52",
  "Band_53",
  "Band_54",
  "Band_55",
  "Band_56",
  "Band_57",
  "Band_58",
  "Band_59",
  "Band_60",
  "Band_61",
  "Band_62",
  "Band_63",
  "Band_64",
  "Band_65",
  "Band_66",
  "Band_67",
  "Band_68",
  "Band_69",
  "Band_70",
  "Band_71",
  "Band_72",
  "Band_73",
  "Band_74",
  "Band_75",
  "Band_76",
  "Band_77",
  "Band_78",
  "Band_79",
  "Band_80",
  "Band_81",
  "Band_82",
  "Band_83",
  "Band_84",
  "Band_85",
  "Band_86",
  "Band_87",
  "Band_88",
  "Band_89",
  "Band_90",
  "Band_91",
  "Band_92",
  "Band_93",
  "Band_94",
  "Band_95",
  "Band_96",
  "Band_97",
  "Band_98",
  "Band_99",
  "Band_100",
  "Band_101",
  "Band_102",
  "Band_103",
  "Band_104",
  "Band_105",
  "Band_106",
  "Band_107",
  "Band_108",
  "Band_109",
  "Band_110",
  "Band_111",
  "Band_112",
  "Band_113",
  "Band_114",
  "Band_115",
  "Band_116",
  "Band_117",
  "Band_118",
  "Band_119",
  "Band_120",
  "Band_121",
  "Band_122",
  "Band_123",
  "Band_124",
  "Band_125",
  "Band_126",
  "Band_127",
  "Band_128",
  "Band_129",
  "Band_130",
  "Band_131",
  "Band_132",
  "Band_133",
  "Band_134",
  "Band_135",
  "Band_136",
  "Band_137",
  "Band_138",
  "Band_139",
  "Band_140",
  "Band_141",
  "Band_142",
  "Band_143",
  "Band_144",
  "Band_145",
  "Band_146",
  "Band_147",
  "Band_148",
  "Band_149",
  "Band_150",
  "Band_151",
  "Band_152",
  "Band_153",
  "Band_154",
  "Band_155",
  "Band_156",
  "Band_157",
  "Band_158",
  "Band_159",
  "Band_160",
  "Band_161",
  "Band_162",
  "Band_163",
  "Band_164",
  "Band_165",
  "Band_166",
  "Band_167",
  "Band_168",
  "Band_169",
  "Band_170",
  "Band_171",
  "Band_172",
  "Band_173",
  "Band_174",
  "Band_175",
  "Band_176",
  "Band_177",
  "Band_178",
  "Band_179",
  "Band_180",
  "Band_181",
  "Band_182",
  "Band_183",
  "Band_184",
  "Band_185",
  "Band_186",
  "Band_187",
  "Band_188",
  "Band_189",
  "Band_190",
  "Band_191",
  "Band_192",
  "Band_193",
  "Band_194",
  "Band_195",
  "Band_196",
  "Band_197",
  "Band_198",
  "Band_199",
  "Band_200",
  "Band_201",
  "Band_202",
  "Band_203",
  "Band_204",
  "Band_205",
  "Band_206",
  "Band_207",
  "Band_208",
  "Band_209",
  "Band_210",
  "Band_211",
  "Band_212",
  "Band_213",
  "Band_214",
  "Band_215",
  "Band_216",
  "Band_217",
  "Band_218",
  "Band_219",
  "Band_220",
  "Band_221",
  "Band_222",
  "Band_223",
  "Band_224",
  "Band_225",
  "Band_226",
  "Band_227",
  "Band_228",
  "Band_229",
  "Band_230",
  "Band_231",
  "Band_232",
  "Band_233",
  "Band_234",
  "Band_235",
  "Band_236",
  "Band_237",
  "Band_238",
  "Band_239",
  "Band_240",
  "Band_241",
  "Band_242",
  "Band_243",
  "Band_244",
  "Band_245",
  "Band_246",
  "Band_247",
  "Band_248",
  "Band_249",
  "Band_250",
  "Band_251",
  "Band_252",
  "Band_253",
  "Band_254",
  "Band_255",
  "Band_256",
  "Band_257",
  "Band_258",
  "Band_259",
  "Band_260",
  "Band_261",
  "Band_262",
  "Band_263",
  "Band_264",
  "Band_265",
  "Band_266",
  "Band_267",
  "Band_268",
  "Band_269",
  "Band_270",
  "Band_271",
  "Band_272",
  "Band_273",
  "Band_274",
  "Band_275",
  "Band_276",
  "Band_277",
  "Band_278",
  "Band_279",
  "Band_280",
  "Band_281",
  "Band_282",
  "Band_283",
  "Band_284",
  "Band_285",
  "Band_286",
  "Band_287",
  "Band_288",
  "Band_289",
  "Band_290",
  "Band_291",
  "Band_292",
  "Band_293",
  "Band_294",
  "Band_295",
  "Band_296",
  "Band_297",
  "Band_298",
  "Band_299",
  "Band_300",
  "Band_301",
  "Band_302",
  "Band_303",
  "Band_304",
  "Band_305",
  "Band_306",
  "Band_307",
  "Band_308",
  "Band_309",
  "Band_310",
  "Band_311",
  "Band_312",
  "Band_313",
  "Band_314",
  "Band_315",
  "Band_316",
  "Band_317",
  "Band_318",
  "Band_319",
  "Band_320",
  "Band_321",
  "Band_322",
  "Band_323",
  "Band_324",
  "Band_325",
  "Band_326",
  "Band_327",
  "Band_328",
  "Band_329",
  "Band_330",
  "Band_331",
  "Band_332",
  "Band_333",
  "Band_334",
  "Band_335",
  "Band_336",
  "Band_337",
  "Band_338",
  "Band_339",
  "Band_340",
  "Band_341",
  "Band_342",
  "Band_343",
  "Band_344",
  "Band_345",
  "Band_346",
  "Band_347",
  "Band_348",
  "Band_349",
  "Band_350",
  "Band_351",
  "Band_352",
  "Band_353",
  "Band_354",
  "Band_355",
  "Band_356",
  "Band_357",
  "Band_358",
  "Band_359",
  "Band_360",
  "Band_361",
  "Band_362",
  "Band_363",
  "Band_364",
  "Band_365",
  "Band_366",
  "Band_367",
  "Band_368",
  "Band_369",
  "Band_370",
  "Band_371",
  "Band_372",
  "Band_373",
  "Band_374",
  "Band_375",
  "Band_376",
  "Band_377",
  "Band_378",
  "Band_379",
  "Band_380",
  "Band_381",
  "Band_382",
  "Band_383",
  "Band_384",
  "Band_385",
  "Band_386",
  "Band_387",
  "Band_388",
  "Band_389",
  "Band_390",
  "Band_391",
  "Band_392",
  "Band_393",
  "Band_394",
  "Band_395",
  "Band_396",
  "Band_397",
  "Band_398",
  "Band_399",
  "Band_400",
  "Band_401",
  "Band_402",
  "Band_403",
  "Band_404",
  "Band_405",
  "Band_406",
  "Band_407",
  "Band_408",
  "Band_409",
  "Band_410",
  "Band_411",
  "Band_412",
  "Band_413",
  "Band_414",
  "Band_415",
  "Band_416",
  "Band_417",
  "Band_418",
  "Band_419",
  "Band_420",
  "Band_421",
  "Band_422",
  "Band_423",
  "Band_424",
  "Band_425",
  "Band_426",
  "Band_427",
  "Band_428",
  "Band_429",
  "Band_430",
  "Band_431",
  "Band_432",
  "Band_433",
  "Band_434",
  "Band_435",
  "Band_436",
  "Band_437",
  "Band_438",
  "Band_439",
  "Band_440",
  "Band_441",
  "Band_442",
  "Band_443",
  "Band_444",
  "Band_445",
  "Band_446",
  "Band_447",
  "Band_448",
  "Band_449",
  "Band_450",
  "Band_451",
  "Band_452",
  "Band_453",
  "Band_454",
  "Band_455",
  "Band_456",
  "Band_457",
  "Band_458",
  "Band_459",
  "Band_460",
  "Band_461",
  "Band_462",
  "Band_463",
  "Band_464",
  "Band_465",
  "Band_466",
  "Band_467",
  "Band_468",
  "Band_469",
  "Band_470",
  "Band_471",
  "Band_472",
  "Band_473",
  "Band_474",
  "Band_475",
  "Band_476",
  "Band_477",
  "Band_478",
  "Band_479",
  "Band_480",
  "Band_481",
  "Band_482",
  "Band_483",
  "Band_484",
  "Band_485",
  "Band_486",
  "Band_487",
  "Band_488",
  "Band_489",
  "Band_490",
  "Band_491",
  "Band_492",
  "Band_493",
  "Band_494",
  "Band_495",
  "Band_496",
  "Band_497",
  "Band_498",
  "Band_499",
  "Band_500",
  "Band_501",
  "Band_502",
  "Band_503",
  "Band_504",
  "Band_505",
  "Band_506",
  "Band_507",
  "Band_508",
  "Band_509",
  "Band_510",
  "Band_511",
  "Band_512",
  "Band_513",
  "Band_514",
  "Band_515",
  "Band_516",
  "Band_517",
  "Band_518",
  "Band_519",
  "Band_520",
  "Band_521",
  "Band_522",
  "Band_523",
  "Band_524",
  "Band_525",
  "Band_526",
  "Band_527",
  "Band_528",
  "Band_529",
  "Band_530",
  "Band_531",
  "Band_532",
  "Band_533",
  "Band_534",
  "Band_535",
  "Band_536",
  "Band_537",
  "Band_538",
  "Band_539",
  "Band_540",
  "Band_541",
  "Band_542",
  "Band_543",
  "Band_544",
  "Band_545",
  "Band_546",
  "Band_547",
  "Band_548",
  "Band_549",
  "Band_550",
  "Band_551",
  "Band_552",
  "Band_553",
  "Band_554",
  "Band_555",
  "Band_556",
  "Band_557",
  "Band_558",
  "Band_559",
  "Band_560",
  "Band_561",
  "Band_562",
  "Band_563",
  "Band_564",
  "Band_565",
  "Band_566",
  "Band_567",
  "Band_568",
  "Band_569",
  "Band_570",
  "Band_571",
  "Band_572",
  "Band_573",
  "Band_574",
  "Band_575",
  "Band_576",
  "Band_577",
  "Band_578",
  "Band_579",
  "Band_580",
  "Band_581",
  "Band_582",
  "Band_583",
  "Band_584",
  "Band_585",
  "Band_586",
  "Band_587",
  "Band_588",
  "Band_589",
  "Band_590",
  "Band_591",
  "Band_592",
  "Band_593",
  "Band_594",
  "Band_595"
 ],
 "allowCopy": true,
 "allowAnalysis": true,
 "itemAccess": false,
 "inspectionCapabilities": "",
 "minPixelSize": 0,
 "maxPixelSize": 0,
 "copyrightText": "",
 "serviceDataType": "esriImageServiceDataTypeGeneric",
 "serviceSourceType": "esriImageServiceSourceTypeDataset",
 "objectIdField": "",
 "fields": [],
 "capabilities": "Image,Metadata,Mensuration",
 "defaultMosaicMethod": "Center",
 "allowedMosaicMethods": "",
 "sortField": "",
 "sortValue": null,
 "sortAscending": true,
 "mosaicOperator": "First",
 "defaultCompressionQuality": 75,
 "defaultResamplingMethod": "Bilinear",
 "maxImageHeight": 4100,
 "maxImageWidth": 15000,
 "allowRasterFunction": true,
 "rasterFunctionInfos": [
  {
   "name": "None",
   "description": "",
   "help": ""
  }
 ],
 "rasterTypeInfos": [
  {
   "name": "Raster Dataset",
   "description": "Supports all ArcGIS Raster Datasets",
   "help": ""
  }
 ],
 "mensurationCapabilities": "Basic",
 "hasHistograms": false,
 "hasColormap": false,
 "hasRasterAttributeTable": false,
 "minScale": 0,
 "maxScale": 0,
 "exportTilesAllowed": false,
 "supportsStatistics": false,
 "supportsAdvancedQueries": false,
 "editFieldsInfo": null,
 "ownershipBasedAccessControlForRasters": null,
 "allowComputeTiePoints": false,
 "useStandardizedQueries": true,
 "advancedQueryCapabilities": {
  "useStandardizedQueries": true,
  "supportsStatistics": false,
  "supportsOrderBy": false,
  "supportsDistinct": false,
  "supportsPagination": false
 },
 "spatialReference": {
  "wkid": 32628,
  "latestWkid": 32628
 }
}
